BEGIN:VCALENDAR
VERSION:2.0
PRODID:icalendar-ruby
CALSCALE:GREGORIAN
METHOD:PUBLISH
BEGIN:VEVENT
DTSTAMP:20260426T010119Z
UID:32-520602@curtisroad.com
DTSTART:20260924T220000Z
DTEND:20260924T230000Z
CLASS:PUBLIC
CREATED:20260425T174247
DESCRIPTION:Corporate Prayer
LAST-MODIFIED:20260425T174247
LOCATION:CRCOG Sanctuary
SUMMARY:Corporate Prayer
URL;VALUE=URI:https://www.curtisroad.com/events/corporate-prayer/2026-09-24
ATTACH;FILENAME=image.jpg;FMTTYPE=image/jpeg:https://dq5pwpg1q8ru0.cloudfro
 nt.net/2025/09/29/18/42/49/76cc87aa-a1e9-499e-8902-17f6ccf5cf12/image.jpg
END:VEVENT
END:VCALENDAR
