BEGIN:VCALENDAR
VERSION:2.0
PRODID:icalendar-ruby
CALSCALE:GREGORIAN
METHOD:PUBLISH
BEGIN:VEVENT
DTSTAMP:20260424T044549Z
UID:33-515876@curtisroad.com
DTSTART:20260929T233000Z
DTEND:20260930T003000Z
CLASS:PUBLIC
CREATED:20260423T214006
DESCRIPTION:Ladies Bible Study
LAST-MODIFIED:20260423T214006
LOCATION:CRCOG Cafe
SUMMARY:Ladies Bible Study
URL;VALUE=URI:https://www.curtisroad.com/events/ladies-bible-study/2026-09-
 29
ATTACH;FILENAME=Ladies-Bible-Study-Going-deeper.png;FMTTYPE=image/png:https
 ://dq5pwpg1q8ru0.cloudfront.net/2025/09/29/18/44/20/02e9a10e-142b-4236-b87
 8-7577aa43fa2d/Ladies-Bible-Study-Going-deeper.png
END:VEVENT
END:VCALENDAR
